BEGIN:VCALENDAR
VERSION:2.0
PRODID:-//Gateway Community Church - ECPv6.15.20//NONSGML v1.0//EN
CALSCALE:GREGORIAN
METHOD:PUBLISH
X-ORIGINAL-URL:http://www.gatewayuk.cc
X-WR-CALDESC:Events for Gateway Community Church
REFRESH-INTERVAL;VALUE=DURATION:PT1H
X-Robots-Tag:noindex
X-PUBLISHED-TTL:PT1H
BEGIN:VTIMEZONE
TZID:UTC
BEGIN:STANDARD
TZOFFSETFROM:+0000
TZOFFSETTO:+0000
TZNAME:UTC
DTSTART:20190101T000000
END:STANDARD
END:VTIMEZONE
BEGIN:VEVENT
DTSTART;TZID=UTC:20201101T110000
DTEND;TZID=UTC:20201101T123000
DTSTAMP:20260426T023430
CREATED:20201029T165611Z
LAST-MODIFIED:20201029T165611Z
UID:2408-1604228400-1604233800@www.gatewayuk.cc
SUMMARY:Gateway on Zoom
DESCRIPTION:Sunday Service on Zoom. \nWhilst we continue to have restricted access to our church building our Sunday Services will be on Zoom. \nWe look forward to welcoming you online.
URL:http://www.gatewayuk.cc/event/gateway-on-zoom/
LOCATION:Meeting ID: 898 8200 5091; Passcode: 224639
CATEGORIES:Church Service Online
END:VEVENT
END:VCALENDAR