BEGIN:VCALENDAR
VERSION:2.0
PRODID:-//Gateway Community Church - ECPv6.15.20//NONSGML v1.0//EN
CALSCALE:GREGORIAN
METHOD:PUBLISH
X-WR-CALNAME:Gateway Community Church
X-ORIGINAL-URL:http://www.gatewayuk.cc
X-WR-CALDESC:Events for Gateway Community Church
REFRESH-INTERVAL;VALUE=DURATION:PT1H
X-Robots-Tag:noindex
X-PUBLISHED-TTL:PT1H
BEGIN:VTIMEZONE
TZID:UTC
BEGIN:STANDARD
TZOFFSETFROM:+0000
TZOFFSETTO:+0000
TZNAME:UTC
DTSTART:20190101T000000
END:STANDARD
END:VTIMEZONE
BEGIN:VEVENT
DTSTART;TZID=UTC:20200531T080000
DTEND;TZID=UTC:20200531T170000
DTSTAMP:20260425T173100
CREATED:20200224T014014Z
LAST-MODIFIED:20200224T024822Z
UID:2129-1590912000-1590944400@www.gatewayuk.cc
SUMMARY:Street Evangelize T1
DESCRIPTION:
URL:http://www.gatewayuk.cc/event/street-evangelize-t1-3/
CATEGORIES:Street Evangelize
END:VEVENT
BEGIN:VEVENT
DTSTART;TZID=UTC:20200510T080000
DTEND;TZID=UTC:20200510T170000
DTSTAMP:20260425T173100
CREATED:20200224T013143Z
LAST-MODIFIED:20200224T024822Z
UID:2111-1589097600-1589130000@www.gatewayuk.cc
SUMMARY:Street Evangelize T2
DESCRIPTION:
URL:http://www.gatewayuk.cc/event/street-evangelize-t2-2/
CATEGORIES:Street Evangelize
END:VEVENT
BEGIN:VEVENT
DTSTART;TZID=UTC:20200419T080000
DTEND;TZID=UTC:20200419T170000
DTSTAMP:20260425T173100
CREATED:20200224T011844Z
LAST-MODIFIED:20200224T024901Z
UID:2093-1587283200-1587315600@www.gatewayuk.cc
SUMMARY:Street Evangelize T1
DESCRIPTION:
URL:http://www.gatewayuk.cc/event/street-evangelize-t1-2/
CATEGORIES:Street Evangelize
END:VEVENT
BEGIN:VEVENT
DTSTART;TZID=UTC:20200329T080000
DTEND;TZID=UTC:20200329T170000
DTSTAMP:20260425T173100
CREATED:20200224T011032Z
LAST-MODIFIED:20200224T024901Z
UID:2071-1585468800-1585501200@www.gatewayuk.cc
SUMMARY:Street Evangelize T2
DESCRIPTION:
URL:http://www.gatewayuk.cc/event/street-evangelize-t2/
CATEGORIES:Street Evangelize
END:VEVENT
BEGIN:VEVENT
DTSTART;TZID=UTC:20200308T080000
DTEND;TZID=UTC:20200308T170000
DTSTAMP:20260425T173100
CREATED:20200224T005116Z
LAST-MODIFIED:20200224T171503Z
UID:2051-1583654400-1583686800@www.gatewayuk.cc
SUMMARY:Street Evangelise T1
DESCRIPTION:
URL:http://www.gatewayuk.cc/event/street-evangelize-t1/
CATEGORIES:Street Evangelize
END:VEVENT
END:VCALENDAR