BEGIN:VCALENDAR
VERSION:2.0
PRODID:-//Gateway Community Church - ECPv6.15.20//NONSGML v1.0//EN
CALSCALE:GREGORIAN
METHOD:PUBLISH
X-WR-CALNAME:Gateway Community Church
X-ORIGINAL-URL:https://www.gatewayuk.cc
X-WR-CALDESC:Events for Gateway Community Church
REFRESH-INTERVAL;VALUE=DURATION:PT1H
X-Robots-Tag:noindex
X-PUBLISHED-TTL:PT1H
BEGIN:VTIMEZONE
TZID:UTC
BEGIN:STANDARD
TZOFFSETFROM:+0000
TZOFFSETTO:+0000
TZNAME:UTC
DTSTART:20190101T000000
END:STANDARD
END:VTIMEZONE
BEGIN:VEVENT
DTSTART;TZID=UTC:20200531T080000
DTEND;TZID=UTC:20200531T170000
DTSTAMP:20260423T163410
CREATED:20200224T014014Z
LAST-MODIFIED:20200224T024822Z
UID:2129-1590912000-1590944400@www.gatewayuk.cc
SUMMARY:Street Evangelize T1
DESCRIPTION:
URL:https://www.gatewayuk.cc/event/street-evangelize-t1-3/
CATEGORIES:Street Evangelize
END:VEVENT
BEGIN:VEVENT
DTSTART;TZID=UTC:20200528T080000
DTEND;TZID=UTC:20200528T170000
DTSTAMP:20260423T163410
CREATED:20200224T013958Z
LAST-MODIFIED:20200224T013958Z
UID:2127-1590652800-1590685200@www.gatewayuk.cc
SUMMARY:Drop-in Club
DESCRIPTION:
URL:https://www.gatewayuk.cc/event/drop-in-club-14/
CATEGORIES:Drop-in Club
END:VEVENT
BEGIN:VEVENT
DTSTART;TZID=UTC:20200527T080000
DTEND;TZID=UTC:20200527T170000
DTSTAMP:20260423T163410
CREATED:20200224T013944Z
LAST-MODIFIED:20200224T013944Z
UID:2125-1590566400-1590598800@www.gatewayuk.cc
SUMMARY:Prayer Meeting
DESCRIPTION:
URL:https://www.gatewayuk.cc/event/prayer-meeting-14/
CATEGORIES:Prayer Meetings
END:VEVENT
BEGIN:VEVENT
DTSTART;TZID=UTC:20200523T080000
DTEND;TZID=UTC:20200523T170000
DTSTAMP:20260423T163410
CREATED:20200224T013435Z
LAST-MODIFIED:20200224T024828Z
UID:2123-1590220800-1590253200@www.gatewayuk.cc
SUMMARY:WFP - Community Prayer
DESCRIPTION:
URL:https://www.gatewayuk.cc/event/wfp-community-prayer-3/
CATEGORIES:Community Prayer
END:VEVENT
BEGIN:VEVENT
DTSTART;TZID=UTC:20200521T080000
DTEND;TZID=UTC:20200521T170000
DTSTAMP:20260423T163410
CREATED:20200224T013404Z
LAST-MODIFIED:20200224T013418Z
UID:2121-1590048000-1590080400@www.gatewayuk.cc
SUMMARY:Drop-in Club
DESCRIPTION:
URL:https://www.gatewayuk.cc/event/drop-in-club-13/
CATEGORIES:Drop-in Club
END:VEVENT
BEGIN:VEVENT
DTSTART;TZID=UTC:20200520T080000
DTEND;TZID=UTC:20200520T170000
DTSTAMP:20260423T163410
CREATED:20200224T013343Z
LAST-MODIFIED:20200224T013343Z
UID:2119-1589961600-1589994000@www.gatewayuk.cc
SUMMARY:Prayer Meeting
DESCRIPTION:
URL:https://www.gatewayuk.cc/event/prayer-meeting-13/
CATEGORIES:Prayer Meetings
END:VEVENT
BEGIN:VEVENT
DTSTART;TZID=UTC:20200515T080000
DTEND;TZID=UTC:20200515T170000
DTSTAMP:20260423T163410
CREATED:20200224T013313Z
LAST-MODIFIED:20200224T013313Z
UID:2117-1589529600-1589562000@www.gatewayuk.cc
SUMMARY:Bible Studies
DESCRIPTION:
URL:https://www.gatewayuk.cc/event/bible-studies-3/
CATEGORIES:Bible Studies
END:VEVENT
BEGIN:VEVENT
DTSTART;TZID=UTC:20200514T080000
DTEND;TZID=UTC:20200514T170000
DTSTAMP:20260423T163410
CREATED:20200224T013258Z
LAST-MODIFIED:20200224T013258Z
UID:2115-1589443200-1589475600@www.gatewayuk.cc
SUMMARY:Drop-in Club
DESCRIPTION:
URL:https://www.gatewayuk.cc/event/drop-in-club-12/
CATEGORIES:Drop-in Club
END:VEVENT
BEGIN:VEVENT
DTSTART;TZID=UTC:20200513T080000
DTEND;TZID=UTC:20200513T170000
DTSTAMP:20260423T163410
CREATED:20200224T013243Z
LAST-MODIFIED:20200224T013243Z
UID:2113-1589356800-1589389200@www.gatewayuk.cc
SUMMARY:Prayer Meeting
DESCRIPTION:
URL:https://www.gatewayuk.cc/event/prayer-meeting-12/
CATEGORIES:Prayer Meetings
END:VEVENT
BEGIN:VEVENT
DTSTART;TZID=UTC:20200510T080000
DTEND;TZID=UTC:20200510T170000
DTSTAMP:20260423T163410
CREATED:20200224T013143Z
LAST-MODIFIED:20200224T024822Z
UID:2111-1589097600-1589130000@www.gatewayuk.cc
SUMMARY:Street Evangelize T2
DESCRIPTION:
URL:https://www.gatewayuk.cc/event/street-evangelize-t2-2/
CATEGORIES:Street Evangelize
END:VEVENT
BEGIN:VEVENT
DTSTART;TZID=UTC:20200507T080000
DTEND;TZID=UTC:20200507T170000
DTSTAMP:20260423T163410
CREATED:20200224T012911Z
LAST-MODIFIED:20200224T012911Z
UID:2109-1588838400-1588870800@www.gatewayuk.cc
SUMMARY:Drop-in Club
DESCRIPTION:
URL:https://www.gatewayuk.cc/event/drop-in-club-11/
CATEGORIES:Drop-in Club
END:VEVENT
BEGIN:VEVENT
DTSTART;TZID=UTC:20200506T080000
DTEND;TZID=UTC:20200506T170000
DTSTAMP:20260423T163410
CREATED:20200224T012838Z
LAST-MODIFIED:20200224T012838Z
UID:2107-1588752000-1588784400@www.gatewayuk.cc
SUMMARY:Prayer Meeting
DESCRIPTION:
URL:https://www.gatewayuk.cc/event/prayer-meeting-11/
CATEGORIES:Prayer Meetings
END:VEVENT
BEGIN:VEVENT
DTSTART;TZID=UTC:20200430T080000
DTEND;TZID=UTC:20200430T170000
DTSTAMP:20260423T163410
CREATED:20200224T012010Z
LAST-MODIFIED:20200224T012010Z
UID:2105-1588233600-1588266000@www.gatewayuk.cc
SUMMARY:Drop-in Club
DESCRIPTION:
URL:https://www.gatewayuk.cc/event/drop-in-club-10/
CATEGORIES:Drop-in Club
END:VEVENT
BEGIN:VEVENT
DTSTART;TZID=UTC:20200429T080000
DTEND;TZID=UTC:20200429T170000
DTSTAMP:20260423T163410
CREATED:20200224T011956Z
LAST-MODIFIED:20200224T011956Z
UID:2103-1588147200-1588179600@www.gatewayuk.cc
SUMMARY:Prayer Meeting
DESCRIPTION:
URL:https://www.gatewayuk.cc/event/prayer-meeting-10/
CATEGORIES:Prayer Meetings
END:VEVENT
BEGIN:VEVENT
DTSTART;TZID=UTC:20200426T080000
DTEND;TZID=UTC:20200426T170000
DTSTAMP:20260423T163410
CREATED:20200224T011944Z
LAST-MODIFIED:20200224T011944Z
UID:2101-1587888000-1587920400@www.gatewayuk.cc
SUMMARY:Women's Event
DESCRIPTION:
URL:https://www.gatewayuk.cc/event/womens-event/
END:VEVENT
BEGIN:VEVENT
DTSTART;TZID=UTC:20200425T080000
DTEND;TZID=UTC:20200425T170000
DTSTAMP:20260423T163410
CREATED:20200224T011931Z
LAST-MODIFIED:20200224T024849Z
UID:2099-1587801600-1587834000@www.gatewayuk.cc
SUMMARY:WFP - Community Prayer
DESCRIPTION:
URL:https://www.gatewayuk.cc/event/wfp-community-prayer-2/
CATEGORIES:Community Prayer
END:VEVENT
BEGIN:VEVENT
DTSTART;TZID=UTC:20200423T080000
DTEND;TZID=UTC:20200423T170000
DTSTAMP:20260423T163410
CREATED:20200224T011914Z
LAST-MODIFIED:20200224T011914Z
UID:2097-1587628800-1587661200@www.gatewayuk.cc
SUMMARY:Drop-in Club
DESCRIPTION:
URL:https://www.gatewayuk.cc/event/drop-in-club-9/
CATEGORIES:Drop-in Club
END:VEVENT
BEGIN:VEVENT
DTSTART;TZID=UTC:20200422T080000
DTEND;TZID=UTC:20200422T170000
DTSTAMP:20260423T163410
CREATED:20200224T011858Z
LAST-MODIFIED:20200224T011858Z
UID:2095-1587542400-1587574800@www.gatewayuk.cc
SUMMARY:Prayer Meeting
DESCRIPTION:
URL:https://www.gatewayuk.cc/event/prayer-meeting-9/
CATEGORIES:Prayer Meetings
END:VEVENT
BEGIN:VEVENT
DTSTART;TZID=UTC:20200419T080000
DTEND;TZID=UTC:20200419T170000
DTSTAMP:20260423T163410
CREATED:20200224T011844Z
LAST-MODIFIED:20200224T024901Z
UID:2093-1587283200-1587315600@www.gatewayuk.cc
SUMMARY:Street Evangelize T1
DESCRIPTION:
URL:https://www.gatewayuk.cc/event/street-evangelize-t1-2/
CATEGORIES:Street Evangelize
END:VEVENT
BEGIN:VEVENT
DTSTART;TZID=UTC:20200417T080000
DTEND;TZID=UTC:20200417T170000
DTSTAMP:20260423T163410
CREATED:20200224T011752Z
LAST-MODIFIED:20200224T011815Z
UID:2091-1587110400-1587142800@www.gatewayuk.cc
SUMMARY:Bible Studies
DESCRIPTION:
URL:https://www.gatewayuk.cc/event/bible-studies-2/
CATEGORIES:Bible Studies
END:VEVENT
BEGIN:VEVENT
DTSTART;TZID=UTC:20200416T080000
DTEND;TZID=UTC:20200416T170000
DTSTAMP:20260423T163410
CREATED:20200224T011739Z
LAST-MODIFIED:20200224T011739Z
UID:2089-1587024000-1587056400@www.gatewayuk.cc
SUMMARY:Drop-in Club
DESCRIPTION:
URL:https://www.gatewayuk.cc/event/drop-in-club-8/
CATEGORIES:Drop-in Club
END:VEVENT
BEGIN:VEVENT
DTSTART;TZID=UTC:20200415T080000
DTEND;TZID=UTC:20200415T170000
DTSTAMP:20260423T163410
CREATED:20200224T011632Z
LAST-MODIFIED:20200224T011632Z
UID:2087-1586937600-1586970000@www.gatewayuk.cc
SUMMARY:Prayer Meeting
DESCRIPTION:
URL:https://www.gatewayuk.cc/event/prayer-meeting-8/
CATEGORIES:Prayer Meetings
END:VEVENT
BEGIN:VEVENT
DTSTART;VALUE=DATE:20200412
DTEND;VALUE=DATE:20200413
DTSTAMP:20260423T163410
CREATED:20200224T011603Z
LAST-MODIFIED:20200224T011603Z
UID:2085-1586649600-1586735999@www.gatewayuk.cc
SUMMARY:Easter Sunday
DESCRIPTION:
URL:https://www.gatewayuk.cc/event/easter-sunday/
END:VEVENT
BEGIN:VEVENT
DTSTART;VALUE=DATE:20200410
DTEND;VALUE=DATE:20200411
DTSTAMP:20260423T163410
CREATED:20200224T011550Z
LAST-MODIFIED:20200224T011612Z
UID:2083-1586476800-1586563199@www.gatewayuk.cc
SUMMARY:Good Friday
DESCRIPTION:
URL:https://www.gatewayuk.cc/event/good-friday/
END:VEVENT
BEGIN:VEVENT
DTSTART;TZID=UTC:20200409T080000
DTEND;TZID=UTC:20200409T170000
DTSTAMP:20260423T163410
CREATED:20200224T011400Z
LAST-MODIFIED:20200224T011400Z
UID:2081-1586419200-1586451600@www.gatewayuk.cc
SUMMARY:Drop-in Club
DESCRIPTION:
URL:https://www.gatewayuk.cc/event/drop-in-club-7/
CATEGORIES:Drop-in Club
END:VEVENT
BEGIN:VEVENT
DTSTART;TZID=UTC:20200408T080000
DTEND;TZID=UTC:20200408T170000
DTSTAMP:20260423T163410
CREATED:20200224T011345Z
LAST-MODIFIED:20200224T011345Z
UID:2079-1586332800-1586365200@www.gatewayuk.cc
SUMMARY:Prayer Meeting
DESCRIPTION:
URL:https://www.gatewayuk.cc/event/prayer-meeting-7/
CATEGORIES:Prayer Meetings
END:VEVENT
BEGIN:VEVENT
DTSTART;TZID=UTC:20200406T080000
DTEND;TZID=UTC:20200406T170000
DTSTAMP:20260423T163410
CREATED:20200224T011331Z
LAST-MODIFIED:20200224T011331Z
UID:2077-1586160000-1586192400@www.gatewayuk.cc
SUMMARY:Love Redbridge Prayer @GCC
DESCRIPTION:
URL:https://www.gatewayuk.cc/event/love-redbridge-prayer-gcc/
END:VEVENT
BEGIN:VEVENT
DTSTART;TZID=UTC:20200402T080000
DTEND;TZID=UTC:20200402T170000
DTSTAMP:20260423T163410
CREATED:20200224T011102Z
LAST-MODIFIED:20200224T011102Z
UID:2075-1585814400-1585846800@www.gatewayuk.cc
SUMMARY:Drop-in Club
DESCRIPTION:
URL:https://www.gatewayuk.cc/event/drop-in-club-6/
CATEGORIES:Drop-in Club
END:VEVENT
BEGIN:VEVENT
DTSTART;TZID=UTC:20200401T080000
DTEND;TZID=UTC:20200401T170000
DTSTAMP:20260423T163410
CREATED:20200224T011048Z
LAST-MODIFIED:20200224T011048Z
UID:2073-1585728000-1585760400@www.gatewayuk.cc
SUMMARY:Prayer Meeting
DESCRIPTION:
URL:https://www.gatewayuk.cc/event/prayer-meeting-6/
CATEGORIES:Prayer Meetings
END:VEVENT
BEGIN:VEVENT
DTSTART;TZID=UTC:20200329T080000
DTEND;TZID=UTC:20200329T170000
DTSTAMP:20260423T163410
CREATED:20200224T011032Z
LAST-MODIFIED:20200224T024901Z
UID:2071-1585468800-1585501200@www.gatewayuk.cc
SUMMARY:Street Evangelize T2
DESCRIPTION:
URL:https://www.gatewayuk.cc/event/street-evangelize-t2/
CATEGORIES:Street Evangelize
END:VEVENT
END:VCALENDAR