BEGIN:VCALENDAR
VERSION:2.0
PRODID:-//Gateway Community Church - ECPv6.15.20//NONSGML v1.0//EN
CALSCALE:GREGORIAN
METHOD:PUBLISH
X-WR-CALNAME:Gateway Community Church
X-ORIGINAL-URL:https://www.gatewayuk.cc
X-WR-CALDESC:Events for Gateway Community Church
REFRESH-INTERVAL;VALUE=DURATION:PT1H
X-Robots-Tag:noindex
X-PUBLISHED-TTL:PT1H
BEGIN:VTIMEZONE
TZID:UTC
BEGIN:STANDARD
TZOFFSETFROM:+0000
TZOFFSETTO:+0000
TZNAME:UTC
DTSTART:20190101T000000
END:STANDARD
END:VTIMEZONE
BEGIN:VEVENT
DTSTART;TZID=UTC:20200305T080000
DTEND;TZID=UTC:20200305T170000
DTSTAMP:20260423T235727
CREATED:20200224T005100Z
LAST-MODIFIED:20200224T005100Z
UID:2049-1583395200-1583427600@www.gatewayuk.cc
SUMMARY:Drop-in Club
DESCRIPTION:
URL:https://www.gatewayuk.cc/event/drop-in-club-2/
CATEGORIES:Drop-in Club
END:VEVENT
BEGIN:VEVENT
DTSTART;TZID=UTC:20200304T080000
DTEND;TZID=UTC:20200304T170000
DTSTAMP:20260423T235727
CREATED:20200224T004332Z
LAST-MODIFIED:20200224T004419Z
UID:2046-1583308800-1583341200@www.gatewayuk.cc
SUMMARY:Prayer Meeting
DESCRIPTION:
URL:https://www.gatewayuk.cc/event/prayer-meeting-2/
CATEGORIES:Prayer Meetings
END:VEVENT
BEGIN:VEVENT
DTSTART;TZID=UTC:20200227T080000
DTEND;TZID=UTC:20200227T170000
DTSTAMP:20260423T235727
CREATED:20200224T004317Z
LAST-MODIFIED:20200224T005040Z
UID:2044-1582790400-1582822800@www.gatewayuk.cc
SUMMARY:Drop-in Club
DESCRIPTION:
URL:https://www.gatewayuk.cc/event/drop-in-club/
CATEGORIES:Drop-in Club
END:VEVENT
BEGIN:VEVENT
DTSTART;TZID=UTC:20200226T080000
DTEND;TZID=UTC:20200226T170000
DTSTAMP:20260423T235727
CREATED:20200223T000236Z
LAST-MODIFIED:20200223T000236Z
UID:2042-1582704000-1582736400@www.gatewayuk.cc
SUMMARY:Prayer Meeting
DESCRIPTION:
URL:https://www.gatewayuk.cc/event/prayer-meeting/
CATEGORIES:Prayer Meetings
END:VEVENT
END:VCALENDAR