BEGIN:VCALENDAR
VERSION:2.0
PRODID:-//Gateway Community Church - ECPv6.15.20//NONSGML v1.0//EN
CALSCALE:GREGORIAN
METHOD:PUBLISH
X-WR-CALNAME:Gateway Community Church
X-ORIGINAL-URL:https://www.gatewayuk.cc
X-WR-CALDESC:Events for Gateway Community Church
REFRESH-INTERVAL;VALUE=DURATION:PT1H
X-Robots-Tag:noindex
X-PUBLISHED-TTL:PT1H
BEGIN:VTIMEZONE
TZID:UTC
BEGIN:STANDARD
TZOFFSETFROM:+0000
TZOFFSETTO:+0000
TZNAME:UTC
DTSTART:20190101T000000
END:STANDARD
END:VTIMEZONE
BEGIN:VEVENT
DTSTART;TZID=UTC:20201014T080000
DTEND;TZID=UTC:20201014T170000
DTSTAMP:20260423T085248
CREATED:20200224T023508Z
LAST-MODIFIED:20200224T023508Z
UID:2247-1602662400-1602694800@www.gatewayuk.cc
SUMMARY:Prayer Meeting
DESCRIPTION:
URL:https://www.gatewayuk.cc/event/prayer-meeting-34/
CATEGORIES:Prayer Meetings
END:VEVENT
BEGIN:VEVENT
DTSTART;TZID=UTC:20201008T080000
DTEND;TZID=UTC:20201008T170000
DTSTAMP:20260423T085248
CREATED:20200224T023307Z
LAST-MODIFIED:20200224T023307Z
UID:2245-1602144000-1602176400@www.gatewayuk.cc
SUMMARY:Drop-in Club
DESCRIPTION:
URL:https://www.gatewayuk.cc/event/drop-in-club-33/
CATEGORIES:Drop-in Club
END:VEVENT
BEGIN:VEVENT
DTSTART;TZID=UTC:20201007T080000
DTEND;TZID=UTC:20201007T170000
DTSTAMP:20260423T085248
CREATED:20200224T023252Z
LAST-MODIFIED:20200224T023252Z
UID:2243-1602057600-1602090000@www.gatewayuk.cc
SUMMARY:Prayer Meeting
DESCRIPTION:
URL:https://www.gatewayuk.cc/event/prayer-meeting-33/
CATEGORIES:Prayer Meetings
END:VEVENT
BEGIN:VEVENT
DTSTART;TZID=UTC:20201004T080000
DTEND;TZID=UTC:20201004T170000
DTSTAMP:20260423T085248
CREATED:20200224T023225Z
LAST-MODIFIED:20200224T024553Z
UID:2241-1601798400-1601830800@www.gatewayuk.cc
SUMMARY:Street Evangelize T1 Men's Event
DESCRIPTION:
URL:https://www.gatewayuk.cc/event/street-evangelize-t1-mens-event/
CATEGORIES:Street Evangelize
END:VEVENT
BEGIN:VEVENT
DTSTART;TZID=UTC:20201002T080000
DTEND;TZID=UTC:20201002T170000
DTSTAMP:20260423T085248
CREATED:20200224T023204Z
LAST-MODIFIED:20200224T024622Z
UID:2239-1601625600-1601658000@www.gatewayuk.cc
SUMMARY:Film Night
DESCRIPTION:
URL:https://www.gatewayuk.cc/event/film-night-3/
CATEGORIES:Film Night
END:VEVENT
BEGIN:VEVENT
DTSTART;TZID=UTC:20201001T080000
DTEND;TZID=UTC:20201001T170000
DTSTAMP:20260423T085248
CREATED:20200224T023151Z
LAST-MODIFIED:20200224T023151Z
UID:2237-1601539200-1601571600@www.gatewayuk.cc
SUMMARY:Drop-in Club
DESCRIPTION:
URL:https://www.gatewayuk.cc/event/drop-in-club-32/
CATEGORIES:Drop-in Club
END:VEVENT
BEGIN:VEVENT
DTSTART;TZID=UTC:20200930T080000
DTEND;TZID=UTC:20200930T170000
DTSTAMP:20260423T085248
CREATED:20200224T023041Z
LAST-MODIFIED:20200224T023041Z
UID:2235-1601452800-1601485200@www.gatewayuk.cc
SUMMARY:Prayer Meeting
DESCRIPTION:
URL:https://www.gatewayuk.cc/event/prayer-meeting-32/
CATEGORIES:Prayer Meetings
END:VEVENT
BEGIN:VEVENT
DTSTART;TZID=UTC:20200926T080000
DTEND;TZID=UTC:20200926T170000
DTSTAMP:20260423T085248
CREATED:20200224T023027Z
LAST-MODIFIED:20200224T024612Z
UID:2233-1601107200-1601139600@www.gatewayuk.cc
SUMMARY:WFP - Community Prayer
DESCRIPTION:
URL:https://www.gatewayuk.cc/event/wfp-community-prayer-7/
CATEGORIES:Community Prayer
END:VEVENT
BEGIN:VEVENT
DTSTART;TZID=UTC:20200924T080000
DTEND;TZID=UTC:20200924T170000
DTSTAMP:20260423T085248
CREATED:20200224T022945Z
LAST-MODIFIED:20200224T022945Z
UID:2231-1600934400-1600966800@www.gatewayuk.cc
SUMMARY:Drop-in Club
DESCRIPTION:
URL:https://www.gatewayuk.cc/event/drop-in-club-31/
CATEGORIES:Drop-in Club
END:VEVENT
BEGIN:VEVENT
DTSTART;TZID=UTC:20200923T080000
DTEND;TZID=UTC:20200923T170000
DTSTAMP:20260423T085248
CREATED:20200224T022929Z
LAST-MODIFIED:20200224T022929Z
UID:2229-1600848000-1600880400@www.gatewayuk.cc
SUMMARY:Prayer Meeting
DESCRIPTION:
URL:https://www.gatewayuk.cc/event/prayer-meeting-31/
CATEGORIES:Prayer Meetings
END:VEVENT
BEGIN:VEVENT
DTSTART;TZID=UTC:20200918T080000
DTEND;TZID=UTC:20200918T170000
DTSTAMP:20260423T085248
CREATED:20200224T022911Z
LAST-MODIFIED:20200224T022911Z
UID:2227-1600416000-1600448400@www.gatewayuk.cc
SUMMARY:Bible Studies
DESCRIPTION:
URL:https://www.gatewayuk.cc/event/bible-studies-7/
CATEGORIES:Bible Studies
END:VEVENT
BEGIN:VEVENT
DTSTART;TZID=UTC:20200917T080000
DTEND;TZID=UTC:20200917T170000
DTSTAMP:20260423T085248
CREATED:20200224T022856Z
LAST-MODIFIED:20200224T022856Z
UID:2225-1600329600-1600362000@www.gatewayuk.cc
SUMMARY:Drop-in Club
DESCRIPTION:
URL:https://www.gatewayuk.cc/event/drop-in-club-30/
CATEGORIES:Drop-in Club
END:VEVENT
BEGIN:VEVENT
DTSTART;TZID=UTC:20200916T080000
DTEND;TZID=UTC:20200916T170000
DTSTAMP:20260423T085248
CREATED:20200224T022841Z
LAST-MODIFIED:20200224T022841Z
UID:2223-1600243200-1600275600@www.gatewayuk.cc
SUMMARY:Prayer Meeting
DESCRIPTION:
URL:https://www.gatewayuk.cc/event/prayer-meeting-30/
CATEGORIES:Prayer Meetings
END:VEVENT
BEGIN:VEVENT
DTSTART;TZID=UTC:20200913T080000
DTEND;TZID=UTC:20200913T170000
DTSTAMP:20260423T085248
CREATED:20200224T022823Z
LAST-MODIFIED:20200224T024635Z
UID:2221-1599984000-1600016400@www.gatewayuk.cc
SUMMARY:Street Evangelize T2
DESCRIPTION:
URL:https://www.gatewayuk.cc/event/street-evangelize-t2-5/
CATEGORIES:Street Evangelize
END:VEVENT
BEGIN:VEVENT
DTSTART;TZID=UTC:20200912T080000
DTEND;TZID=UTC:20200912T170000
DTSTAMP:20260423T085248
CREATED:20200224T021833Z
LAST-MODIFIED:20200224T021833Z
UID:2219-1599897600-1599930000@www.gatewayuk.cc
SUMMARY:Gateway Quiz Night
DESCRIPTION:
URL:https://www.gatewayuk.cc/event/gateway-quiz-night/
END:VEVENT
BEGIN:VEVENT
DTSTART;TZID=UTC:20200910T080000
DTEND;TZID=UTC:20200910T170000
DTSTAMP:20260423T085248
CREATED:20200224T021813Z
LAST-MODIFIED:20200224T021813Z
UID:2217-1599724800-1599757200@www.gatewayuk.cc
SUMMARY:Drop-in Club
DESCRIPTION:
URL:https://www.gatewayuk.cc/event/drop-in-club-29/
CATEGORIES:Drop-in Club
END:VEVENT
BEGIN:VEVENT
DTSTART;TZID=UTC:20200909T080000
DTEND;TZID=UTC:20200909T170000
DTSTAMP:20260423T085248
CREATED:20200224T021738Z
LAST-MODIFIED:20200224T021738Z
UID:2215-1599638400-1599670800@www.gatewayuk.cc
SUMMARY:Prayer Meeting
DESCRIPTION:
URL:https://www.gatewayuk.cc/event/prayer-meeting-29/
CATEGORIES:Prayer Meetings
END:VEVENT
BEGIN:VEVENT
DTSTART;TZID=UTC:20200907T080000
DTEND;TZID=UTC:20200907T170000
DTSTAMP:20260423T085248
CREATED:20200224T021555Z
LAST-MODIFIED:20200224T021555Z
UID:2213-1599465600-1599498000@www.gatewayuk.cc
SUMMARY:Love Redbridge Prayer @GCC
DESCRIPTION:
URL:https://www.gatewayuk.cc/event/love-redbridge-prayer-gcc-2/
END:VEVENT
BEGIN:VEVENT
DTSTART;TZID=UTC:20200903T080000
DTEND;TZID=UTC:20200903T170000
DTSTAMP:20260423T085248
CREATED:20200224T021539Z
LAST-MODIFIED:20200224T021539Z
UID:2211-1599120000-1599152400@www.gatewayuk.cc
SUMMARY:Drop-in Club
DESCRIPTION:
URL:https://www.gatewayuk.cc/event/drop-in-club-28/
CATEGORIES:Drop-in Club
END:VEVENT
BEGIN:VEVENT
DTSTART;TZID=UTC:20200902T080000
DTEND;TZID=UTC:20200902T170000
DTSTAMP:20260423T085248
CREATED:20200224T021526Z
LAST-MODIFIED:20200224T021526Z
UID:2209-1599033600-1599066000@www.gatewayuk.cc
SUMMARY:Prayer Meeting
DESCRIPTION:
URL:https://www.gatewayuk.cc/event/prayer-meeting-28/
CATEGORIES:Prayer Meetings
END:VEVENT
BEGIN:VEVENT
DTSTART;TZID=UTC:20200827T080000
DTEND;TZID=UTC:20200827T170000
DTSTAMP:20260423T085248
CREATED:20200224T021510Z
LAST-MODIFIED:20200224T021510Z
UID:2207-1598515200-1598547600@www.gatewayuk.cc
SUMMARY:Drop-in Club
DESCRIPTION:
URL:https://www.gatewayuk.cc/event/drop-in-club-27/
CATEGORIES:Drop-in Club
END:VEVENT
BEGIN:VEVENT
DTSTART;TZID=UTC:20200826T080000
DTEND;TZID=UTC:20200826T170000
DTSTAMP:20260423T085248
CREATED:20200224T021454Z
LAST-MODIFIED:20200224T021454Z
UID:2205-1598428800-1598461200@www.gatewayuk.cc
SUMMARY:Prayer Meeting
DESCRIPTION:
URL:https://www.gatewayuk.cc/event/prayer-meeting-27/
CATEGORIES:Prayer Meetings
END:VEVENT
BEGIN:VEVENT
DTSTART;TZID=UTC:20200823T080000
DTEND;TZID=UTC:20200823T170000
DTSTAMP:20260423T085248
CREATED:20200224T021441Z
LAST-MODIFIED:20200224T024635Z
UID:2203-1598169600-1598202000@www.gatewayuk.cc
SUMMARY:Street Evangelize T1
DESCRIPTION:
URL:https://www.gatewayuk.cc/event/street-evangelize-t1-5/
CATEGORIES:Street Evangelize
END:VEVENT
BEGIN:VEVENT
DTSTART;TZID=UTC:20200822T080000
DTEND;TZID=UTC:20200822T170000
DTSTAMP:20260423T085248
CREATED:20200224T021420Z
LAST-MODIFIED:20200224T024645Z
UID:2201-1598083200-1598115600@www.gatewayuk.cc
SUMMARY:WFP - Community Prayer
DESCRIPTION:
URL:https://www.gatewayuk.cc/event/wfp-community-prayer-6/
CATEGORIES:Community Prayer
END:VEVENT
BEGIN:VEVENT
DTSTART;TZID=UTC:20200821T080000
DTEND;TZID=UTC:20200821T170000
DTSTAMP:20260423T085248
CREATED:20200224T021408Z
LAST-MODIFIED:20200224T021408Z
UID:2199-1597996800-1598029200@www.gatewayuk.cc
SUMMARY:Evangelizing Review
DESCRIPTION:
URL:https://www.gatewayuk.cc/event/evangelizing-review/
END:VEVENT
BEGIN:VEVENT
DTSTART;TZID=UTC:20200820T080000
DTEND;TZID=UTC:20200820T170000
DTSTAMP:20260423T085248
CREATED:20200224T021355Z
LAST-MODIFIED:20200224T021355Z
UID:2197-1597910400-1597942800@www.gatewayuk.cc
SUMMARY:Drop-in Club
DESCRIPTION:
URL:https://www.gatewayuk.cc/event/drop-in-club-26/
CATEGORIES:Drop-in Club
END:VEVENT
BEGIN:VEVENT
DTSTART;TZID=UTC:20200819T080000
DTEND;TZID=UTC:20200819T170000
DTSTAMP:20260423T085248
CREATED:20200224T021343Z
LAST-MODIFIED:20200224T021343Z
UID:2195-1597824000-1597856400@www.gatewayuk.cc
SUMMARY:Prayer Meeting
DESCRIPTION:
URL:https://www.gatewayuk.cc/event/prayer-meeting-26/
CATEGORIES:Prayer Meetings
END:VEVENT
BEGIN:VEVENT
DTSTART;TZID=UTC:20200814T080000
DTEND;TZID=UTC:20200814T170000
DTSTAMP:20260423T085248
CREATED:20200224T021259Z
LAST-MODIFIED:20200224T021259Z
UID:2193-1597392000-1597424400@www.gatewayuk.cc
SUMMARY:Bible Studies
DESCRIPTION:
URL:https://www.gatewayuk.cc/event/bible-studies-6/
CATEGORIES:Bible Studies
END:VEVENT
BEGIN:VEVENT
DTSTART;TZID=UTC:20200813T080000
DTEND;TZID=UTC:20200813T170000
DTSTAMP:20260423T085248
CREATED:20200224T021245Z
LAST-MODIFIED:20200224T021245Z
UID:2191-1597305600-1597338000@www.gatewayuk.cc
SUMMARY:Drop-in Club
DESCRIPTION:
URL:https://www.gatewayuk.cc/event/drop-in-club-25/
CATEGORIES:Drop-in Club
END:VEVENT
BEGIN:VEVENT
DTSTART;TZID=UTC:20200812T080000
DTEND;TZID=UTC:20200812T170000
DTSTAMP:20260423T085248
CREATED:20200224T021232Z
LAST-MODIFIED:20200224T021232Z
UID:2189-1597219200-1597251600@www.gatewayuk.cc
SUMMARY:Prayer Meeting
DESCRIPTION:
URL:https://www.gatewayuk.cc/event/prayer-meeting-25/
CATEGORIES:Prayer Meetings
END:VEVENT
END:VCALENDAR