BEGIN:VCALENDAR
VERSION:2.0
PRODID:-//Gateway Community Church - ECPv6.15.20//NONSGML v1.0//EN
CALSCALE:GREGORIAN
METHOD:PUBLISH
X-WR-CALNAME:Gateway Community Church
X-ORIGINAL-URL:https://www.gatewayuk.cc
X-WR-CALDESC:Events for Gateway Community Church
REFRESH-INTERVAL;VALUE=DURATION:PT1H
X-Robots-Tag:noindex
X-PUBLISHED-TTL:PT1H
BEGIN:VTIMEZONE
TZID:UTC
BEGIN:STANDARD
TZOFFSETFROM:+0000
TZOFFSETTO:+0000
TZNAME:UTC
DTSTART:20190101T000000
END:STANDARD
END:VTIMEZONE
BEGIN:VEVENT
DTSTART;TZID=UTC:20200827T080000
DTEND;TZID=UTC:20200827T170000
DTSTAMP:20260423T101906
CREATED:20200224T021510Z
LAST-MODIFIED:20200224T021510Z
UID:2207-1598515200-1598547600@www.gatewayuk.cc
SUMMARY:Drop-in Club
DESCRIPTION:
URL:https://www.gatewayuk.cc/event/drop-in-club-27/
CATEGORIES:Drop-in Club
END:VEVENT
BEGIN:VEVENT
DTSTART;TZID=UTC:20200826T080000
DTEND;TZID=UTC:20200826T170000
DTSTAMP:20260423T101906
CREATED:20200224T021454Z
LAST-MODIFIED:20200224T021454Z
UID:2205-1598428800-1598461200@www.gatewayuk.cc
SUMMARY:Prayer Meeting
DESCRIPTION:
URL:https://www.gatewayuk.cc/event/prayer-meeting-27/
CATEGORIES:Prayer Meetings
END:VEVENT
BEGIN:VEVENT
DTSTART;TZID=UTC:20200823T080000
DTEND;TZID=UTC:20200823T170000
DTSTAMP:20260423T101906
CREATED:20200224T021441Z
LAST-MODIFIED:20200224T024635Z
UID:2203-1598169600-1598202000@www.gatewayuk.cc
SUMMARY:Street Evangelize T1
DESCRIPTION:
URL:https://www.gatewayuk.cc/event/street-evangelize-t1-5/
CATEGORIES:Street Evangelize
END:VEVENT
BEGIN:VEVENT
DTSTART;TZID=UTC:20200822T080000
DTEND;TZID=UTC:20200822T170000
DTSTAMP:20260423T101906
CREATED:20200224T021420Z
LAST-MODIFIED:20200224T024645Z
UID:2201-1598083200-1598115600@www.gatewayuk.cc
SUMMARY:WFP - Community Prayer
DESCRIPTION:
URL:https://www.gatewayuk.cc/event/wfp-community-prayer-6/
CATEGORIES:Community Prayer
END:VEVENT
BEGIN:VEVENT
DTSTART;TZID=UTC:20200821T080000
DTEND;TZID=UTC:20200821T170000
DTSTAMP:20260423T101906
CREATED:20200224T021408Z
LAST-MODIFIED:20200224T021408Z
UID:2199-1597996800-1598029200@www.gatewayuk.cc
SUMMARY:Evangelizing Review
DESCRIPTION:
URL:https://www.gatewayuk.cc/event/evangelizing-review/
END:VEVENT
BEGIN:VEVENT
DTSTART;TZID=UTC:20200820T080000
DTEND;TZID=UTC:20200820T170000
DTSTAMP:20260423T101906
CREATED:20200224T021355Z
LAST-MODIFIED:20200224T021355Z
UID:2197-1597910400-1597942800@www.gatewayuk.cc
SUMMARY:Drop-in Club
DESCRIPTION:
URL:https://www.gatewayuk.cc/event/drop-in-club-26/
CATEGORIES:Drop-in Club
END:VEVENT
BEGIN:VEVENT
DTSTART;TZID=UTC:20200819T080000
DTEND;TZID=UTC:20200819T170000
DTSTAMP:20260423T101906
CREATED:20200224T021343Z
LAST-MODIFIED:20200224T021343Z
UID:2195-1597824000-1597856400@www.gatewayuk.cc
SUMMARY:Prayer Meeting
DESCRIPTION:
URL:https://www.gatewayuk.cc/event/prayer-meeting-26/
CATEGORIES:Prayer Meetings
END:VEVENT
BEGIN:VEVENT
DTSTART;TZID=UTC:20200814T080000
DTEND;TZID=UTC:20200814T170000
DTSTAMP:20260423T101906
CREATED:20200224T021259Z
LAST-MODIFIED:20200224T021259Z
UID:2193-1597392000-1597424400@www.gatewayuk.cc
SUMMARY:Bible Studies
DESCRIPTION:
URL:https://www.gatewayuk.cc/event/bible-studies-6/
CATEGORIES:Bible Studies
END:VEVENT
BEGIN:VEVENT
DTSTART;TZID=UTC:20200813T080000
DTEND;TZID=UTC:20200813T170000
DTSTAMP:20260423T101906
CREATED:20200224T021245Z
LAST-MODIFIED:20200224T021245Z
UID:2191-1597305600-1597338000@www.gatewayuk.cc
SUMMARY:Drop-in Club
DESCRIPTION:
URL:https://www.gatewayuk.cc/event/drop-in-club-25/
CATEGORIES:Drop-in Club
END:VEVENT
BEGIN:VEVENT
DTSTART;TZID=UTC:20200812T080000
DTEND;TZID=UTC:20200812T170000
DTSTAMP:20260423T101906
CREATED:20200224T021232Z
LAST-MODIFIED:20200224T021232Z
UID:2189-1597219200-1597251600@www.gatewayuk.cc
SUMMARY:Prayer Meeting
DESCRIPTION:
URL:https://www.gatewayuk.cc/event/prayer-meeting-25/
CATEGORIES:Prayer Meetings
END:VEVENT
BEGIN:VEVENT
DTSTART;TZID=UTC:20200806T080000
DTEND;TZID=UTC:20200806T170000
DTSTAMP:20260423T101906
CREATED:20200224T021219Z
LAST-MODIFIED:20200224T021219Z
UID:2187-1596700800-1596733200@www.gatewayuk.cc
SUMMARY:Drop-in Club
DESCRIPTION:
URL:https://www.gatewayuk.cc/event/drop-in-club-24/
CATEGORIES:Drop-in Club
END:VEVENT
BEGIN:VEVENT
DTSTART;TZID=UTC:20200805T080000
DTEND;TZID=UTC:20200805T170000
DTSTAMP:20260423T101906
CREATED:20200224T021205Z
LAST-MODIFIED:20200224T021205Z
UID:2185-1596614400-1596646800@www.gatewayuk.cc
SUMMARY:Prayer Meeting
DESCRIPTION:
URL:https://www.gatewayuk.cc/event/prayer-meeting-24/
CATEGORIES:Prayer Meetings
END:VEVENT
BEGIN:VEVENT
DTSTART;TZID=UTC:20200802T080000
DTEND;TZID=UTC:20200802T170000
DTSTAMP:20260423T101906
CREATED:20200224T021122Z
LAST-MODIFIED:20200224T024749Z
UID:2183-1596355200-1596387600@www.gatewayuk.cc
SUMMARY:Street Evangelize T2
DESCRIPTION:
URL:https://www.gatewayuk.cc/event/street-evangelize-t2-4/
CATEGORIES:Street Evangelize
END:VEVENT
BEGIN:VEVENT
DTSTART;TZID=UTC:20200730T080000
DTEND;TZID=UTC:20200730T170000
DTSTAMP:20260423T101906
CREATED:20200224T020859Z
LAST-MODIFIED:20200224T020859Z
UID:2181-1596096000-1596128400@www.gatewayuk.cc
SUMMARY:Drop-in Club
DESCRIPTION:
URL:https://www.gatewayuk.cc/event/drop-in-club-23/
CATEGORIES:Drop-in Club
END:VEVENT
BEGIN:VEVENT
DTSTART;TZID=UTC:20200729T080000
DTEND;TZID=UTC:20200729T170000
DTSTAMP:20260423T101906
CREATED:20200224T020846Z
LAST-MODIFIED:20200224T020846Z
UID:2179-1596009600-1596042000@www.gatewayuk.cc
SUMMARY:Prayer Meeting
DESCRIPTION:
URL:https://www.gatewayuk.cc/event/prayer-meeting-23/
CATEGORIES:Prayer Meetings
END:VEVENT
BEGIN:VEVENT
DTSTART;TZID=UTC:20200726T080000
DTEND;TZID=UTC:20200726T170000
DTSTAMP:20260423T101906
CREATED:20200224T020833Z
LAST-MODIFIED:20200224T020833Z
UID:2177-1595750400-1595782800@www.gatewayuk.cc
SUMMARY:Young People Event
DESCRIPTION:
URL:https://www.gatewayuk.cc/event/young-people-event/
END:VEVENT
BEGIN:VEVENT
DTSTART;TZID=UTC:20200725T080000
DTEND;TZID=UTC:20200725T170000
DTSTAMP:20260423T101906
CREATED:20200224T020005Z
LAST-MODIFIED:20200224T024802Z
UID:2175-1595664000-1595696400@www.gatewayuk.cc
SUMMARY:WFP - Community Prayer
DESCRIPTION:
URL:https://www.gatewayuk.cc/event/wfp-community-prayer-5/
CATEGORIES:Community Prayer
END:VEVENT
BEGIN:VEVENT
DTSTART;TZID=UTC:20200723T080000
DTEND;TZID=UTC:20200723T170000
DTSTAMP:20260423T101906
CREATED:20200224T015950Z
LAST-MODIFIED:20200224T015950Z
UID:2173-1595491200-1595523600@www.gatewayuk.cc
SUMMARY:Drop-in Club
DESCRIPTION:
URL:https://www.gatewayuk.cc/event/drop-in-club-22/
CATEGORIES:Drop-in Club
END:VEVENT
BEGIN:VEVENT
DTSTART;TZID=UTC:20200722T080000
DTEND;TZID=UTC:20200722T170000
DTSTAMP:20260423T101906
CREATED:20200224T015933Z
LAST-MODIFIED:20200224T015933Z
UID:2171-1595404800-1595437200@www.gatewayuk.cc
SUMMARY:Prayer Meeting
DESCRIPTION:
URL:https://www.gatewayuk.cc/event/prayer-meeting-22/
CATEGORIES:Prayer Meetings
END:VEVENT
BEGIN:VEVENT
DTSTART;TZID=UTC:20200717T080000
DTEND;TZID=UTC:20200717T170000
DTSTAMP:20260423T101906
CREATED:20200224T014950Z
LAST-MODIFIED:20200224T014950Z
UID:2169-1594972800-1595005200@www.gatewayuk.cc
SUMMARY:Bible Studies
DESCRIPTION:
URL:https://www.gatewayuk.cc/event/bible-studies-5/
CATEGORIES:Bible Studies
END:VEVENT
BEGIN:VEVENT
DTSTART;TZID=UTC:20200716T080000
DTEND;TZID=UTC:20200716T170000
DTSTAMP:20260423T101906
CREATED:20200224T014932Z
LAST-MODIFIED:20200224T014932Z
UID:2167-1594886400-1594918800@www.gatewayuk.cc
SUMMARY:Drop-in Club
DESCRIPTION:
URL:https://www.gatewayuk.cc/event/drop-in-club-21/
CATEGORIES:Drop-in Club
END:VEVENT
BEGIN:VEVENT
DTSTART;TZID=UTC:20200715T080000
DTEND;TZID=UTC:20200715T170000
DTSTAMP:20260423T101906
CREATED:20200224T014917Z
LAST-MODIFIED:20200224T014917Z
UID:2165-1594800000-1594832400@www.gatewayuk.cc
SUMMARY:Prayer Meeting
DESCRIPTION:
URL:https://www.gatewayuk.cc/event/prayer-meeting-21/
CATEGORIES:Prayer Meetings
END:VEVENT
BEGIN:VEVENT
DTSTART;TZID=UTC:20200712T080000
DTEND;TZID=UTC:20200712T170000
DTSTAMP:20260423T101906
CREATED:20200224T014902Z
LAST-MODIFIED:20200224T024749Z
UID:2163-1594540800-1594573200@www.gatewayuk.cc
SUMMARY:Street Evangelize T1
DESCRIPTION:
URL:https://www.gatewayuk.cc/event/street-evangelize-t1-4/
CATEGORIES:Street Evangelize
END:VEVENT
BEGIN:VEVENT
DTSTART;TZID=UTC:20200709T080000
DTEND;TZID=UTC:20200709T170000
DTSTAMP:20260423T101906
CREATED:20200224T014835Z
LAST-MODIFIED:20200224T014835Z
UID:2161-1594281600-1594314000@www.gatewayuk.cc
SUMMARY:Drop-in Club
DESCRIPTION:
URL:https://www.gatewayuk.cc/event/drop-in-club-20/
CATEGORIES:Drop-in Club
END:VEVENT
BEGIN:VEVENT
DTSTART;TZID=UTC:20200708T080000
DTEND;TZID=UTC:20200708T170000
DTSTAMP:20260423T101906
CREATED:20200224T014821Z
LAST-MODIFIED:20200224T014821Z
UID:2159-1594195200-1594227600@www.gatewayuk.cc
SUMMARY:Prayer Meeting
DESCRIPTION:
URL:https://www.gatewayuk.cc/event/prayer-meeting-20/
CATEGORIES:Prayer Meetings
END:VEVENT
BEGIN:VEVENT
DTSTART;TZID=UTC:20200703T080000
DTEND;TZID=UTC:20200703T170000
DTSTAMP:20260423T101906
CREATED:20200224T014638Z
LAST-MODIFIED:20200224T024809Z
UID:2157-1593763200-1593795600@www.gatewayuk.cc
SUMMARY:Film Night
DESCRIPTION:
URL:https://www.gatewayuk.cc/event/film-night-2/
CATEGORIES:Film Night
END:VEVENT
BEGIN:VEVENT
DTSTART;TZID=UTC:20200702T080000
DTEND;TZID=UTC:20200702T170000
DTSTAMP:20260423T101906
CREATED:20200224T014623Z
LAST-MODIFIED:20200224T014623Z
UID:2155-1593676800-1593709200@www.gatewayuk.cc
SUMMARY:Drop-in Club
DESCRIPTION:
URL:https://www.gatewayuk.cc/event/drop-in-club-19/
CATEGORIES:Drop-in Club
END:VEVENT
BEGIN:VEVENT
DTSTART;TZID=UTC:20200701T080000
DTEND;TZID=UTC:20200701T170000
DTSTAMP:20260423T101906
CREATED:20200224T014608Z
LAST-MODIFIED:20200224T014608Z
UID:2153-1593590400-1593622800@www.gatewayuk.cc
SUMMARY:Prayer Meeting
DESCRIPTION:
URL:https://www.gatewayuk.cc/event/prayer-meeting-19/
CATEGORIES:Prayer Meetings
END:VEVENT
BEGIN:VEVENT
DTSTART;TZID=UTC:20200627T080000
DTEND;TZID=UTC:20200627T170000
DTSTAMP:20260423T101906
CREATED:20200224T014554Z
LAST-MODIFIED:20200224T024802Z
UID:2151-1593244800-1593277200@www.gatewayuk.cc
SUMMARY:WFP - Community Prayer
DESCRIPTION:
URL:https://www.gatewayuk.cc/event/wfp-community-prayer-4/
CATEGORIES:Community Prayer
END:VEVENT
BEGIN:VEVENT
DTSTART;TZID=UTC:20200625T080000
DTEND;TZID=UTC:20200625T170000
DTSTAMP:20260423T101906
CREATED:20200224T014510Z
LAST-MODIFIED:20200224T014510Z
UID:2149-1593072000-1593104400@www.gatewayuk.cc
SUMMARY:Drop-in Club
DESCRIPTION:
URL:https://www.gatewayuk.cc/event/drop-in-club-18/
CATEGORIES:Drop-in Club
END:VEVENT
END:VCALENDAR